BEGIN:VCALENDAR
VERSION:2.0
PRODID:-//Rhodopark Bremen - ECPv6.15.17//NONSGML v1.0//EN
CALSCALE:GREGORIAN
METHOD:PUBLISH
X-ORIGINAL-URL:https://www.verein-rhododendronpark-bremen.de
X-WR-CALDESC:Veranstaltungen für Rhodopark Bremen
REFRESH-INTERVAL;VALUE=DURATION:PT1H
X-Robots-Tag:noindex
X-PUBLISHED-TTL:PT1H
BEGIN:VTIMEZONE
TZID:Europe/Berlin
BEGIN:DAYLIGHT
TZOFFSETFROM:+0100
TZOFFSETTO:+0200
TZNAME:CEST
DTSTART:20230326T010000
END:DAYLIGHT
BEGIN:STANDARD
TZOFFSETFROM:+0200
TZOFFSETTO:+0100
TZNAME:CET
DTSTART:20231029T010000
END:STANDARD
BEGIN:DAYLIGHT
TZOFFSETFROM:+0100
TZOFFSETTO:+0200
TZNAME:CEST
DTSTART:20240331T010000
END:DAYLIGHT
BEGIN:STANDARD
TZOFFSETFROM:+0200
TZOFFSETTO:+0100
TZNAME:CET
DTSTART:20241027T010000
END:STANDARD
BEGIN:DAYLIGHT
TZOFFSETFROM:+0100
TZOFFSETTO:+0200
TZNAME:CEST
DTSTART:20250330T010000
END:DAYLIGHT
BEGIN:STANDARD
TZOFFSETFROM:+0200
TZOFFSETTO:+0100
TZNAME:CET
DTSTART:20251026T010000
END:STANDARD
END:VTIMEZONE
BEGIN:VEVENT
DTSTART;TZID=Europe/Berlin:20240525T100000
DTEND;TZID=Europe/Berlin:20240526T170000
DTSTAMP:20260421T170936
CREATED:20240418T142315Z
LAST-MODIFIED:20240418T142315Z
UID:2443-1716631200-1716742800@www.verein-rhododendronpark-bremen.de
SUMMARY:Pflanzenmarkt
DESCRIPTION:Der Pflanzenmarkt im Bremer Rhododendron-Park findet jeweils Samstag und Sonntag von 10:00 bis 17:00 Uhr statt. Der Eintritt ist kostenfrei. \nSeit vielen Jahren ist der Pflanzenmarkt im Blütenmonat Mai fester Programmbestandteil im Bremer Rhododendron-Park. An diesem Wochenende präsentieren überwiegend regionale Aussteller am Parkplatz Deliusweg eine große Pflanzenpalette. Darüber hinaus können sich die Besucher über Möglichkeiten der Gartengestaltung und über Pflanzengruppen wie Rhododendron\, Rosen u.a. informieren. \nDer Verein der Freunde des Rhododendronparks wird mit einem Stand vertreten sein. Helfende Vereinsmitglieder sind willkommen \n(Kontakt: Michael Koppel 23 77 29 oder mkoppel@t-online.de)
URL:https://www.verein-rhododendronpark-bremen.de/event/pflanzenmarkt-2/
LOCATION:Parkeingang Deliusweg
END:VEVENT
END:VCALENDAR