BEGIN:VCALENDAR
VERSION:2.0
PRODID:-//Rhodopark Bremen - ECPv6.15.17//NONSGML v1.0//EN
CALSCALE:GREGORIAN
METHOD:PUBLISH
X-WR-CALNAME:Rhodopark Bremen
X-ORIGINAL-URL:https://www.verein-rhododendronpark-bremen.de
X-WR-CALDESC:Veranstaltungen für Rhodopark Bremen
REFRESH-INTERVAL;VALUE=DURATION:PT1H
X-Robots-Tag:noindex
X-PUBLISHED-TTL:PT1H
BEGIN:VTIMEZONE
TZID:Europe/Berlin
BEGIN:DAYLIGHT
TZOFFSETFROM:+0100
TZOFFSETTO:+0200
TZNAME:CEST
DTSTART:20230326T010000
END:DAYLIGHT
BEGIN:STANDARD
TZOFFSETFROM:+0200
TZOFFSETTO:+0100
TZNAME:CET
DTSTART:20231029T010000
END:STANDARD
BEGIN:DAYLIGHT
TZOFFSETFROM:+0100
TZOFFSETTO:+0200
TZNAME:CEST
DTSTART:20240331T010000
END:DAYLIGHT
BEGIN:STANDARD
TZOFFSETFROM:+0200
TZOFFSETTO:+0100
TZNAME:CET
DTSTART:20241027T010000
END:STANDARD
BEGIN:DAYLIGHT
TZOFFSETFROM:+0100
TZOFFSETTO:+0200
TZNAME:CEST
DTSTART:20250330T010000
END:DAYLIGHT
BEGIN:STANDARD
TZOFFSETFROM:+0200
TZOFFSETTO:+0100
TZNAME:CET
DTSTART:20251026T010000
END:STANDARD
END:VTIMEZONE
BEGIN:VEVENT
DTSTART;TZID=Europe/Berlin:20240606T190000
DTEND;TZID=Europe/Berlin:20240606T190000
DTSTAMP:20260421T153615
CREATED:20240420T102206Z
LAST-MODIFIED:20240420T102206Z
UID:2463-1717700400-1717700400@www.verein-rhododendronpark-bremen.de
SUMMARY:Vortrag: Chinesische Gärten
DESCRIPTION:mit Andreas Rippert vom Förderverein bBR e.V. \nOrt: Seminarraum in der botanika \nDer Eintritt ist frei – der Verein freut sich jedoch über eine Spende.
URL:https://www.verein-rhododendronpark-bremen.de/event/vortrag-chinesische-gaerten/
LOCATION:botanika im Rhododendronpark
END:VEVENT
END:VCALENDAR