BEGIN:VCALENDAR
VERSION:2.0
PRODID:-//Rhodopark Bremen - ECPv6.15.17//NONSGML v1.0//EN
CALSCALE:GREGORIAN
METHOD:PUBLISH
X-WR-CALNAME:Rhodopark Bremen
X-ORIGINAL-URL:https://www.verein-rhododendronpark-bremen.de
X-WR-CALDESC:Veranstaltungen für Rhodopark Bremen
REFRESH-INTERVAL;VALUE=DURATION:PT1H
X-Robots-Tag:noindex
X-PUBLISHED-TTL:PT1H
BEGIN:VTIMEZONE
TZID:Europe/Berlin
BEGIN:DAYLIGHT
TZOFFSETFROM:+0100
TZOFFSETTO:+0200
TZNAME:CEST
DTSTART:20230326T010000
END:DAYLIGHT
BEGIN:STANDARD
TZOFFSETFROM:+0200
TZOFFSETTO:+0100
TZNAME:CET
DTSTART:20231029T010000
END:STANDARD
BEGIN:DAYLIGHT
TZOFFSETFROM:+0100
TZOFFSETTO:+0200
TZNAME:CEST
DTSTART:20240331T010000
END:DAYLIGHT
BEGIN:STANDARD
TZOFFSETFROM:+0200
TZOFFSETTO:+0100
TZNAME:CET
DTSTART:20241027T010000
END:STANDARD
BEGIN:DAYLIGHT
TZOFFSETFROM:+0100
TZOFFSETTO:+0200
TZNAME:CEST
DTSTART:20250330T010000
END:DAYLIGHT
BEGIN:STANDARD
TZOFFSETFROM:+0200
TZOFFSETTO:+0100
TZNAME:CET
DTSTART:20251026T010000
END:STANDARD
END:VTIMEZONE
BEGIN:VEVENT
DTSTART;TZID=Europe/Berlin:20240711T170000
DTEND;TZID=Europe/Berlin:20240711T170000
DTSTAMP:20260421T170647
CREATED:20240420T104329Z
LAST-MODIFIED:20240421T164330Z
UID:2474-1720717200-1720717200@www.verein-rhododendronpark-bremen.de
SUMMARY:Führung: Kolonialismus\, Pflanzenjäger und ihre Helfer
DESCRIPTION:Führung durch den Rhododendronpark mit Parkleiter Dr. Hartwig Schepker von der Stiftung Bremer Rhododendronpark \nDie Führung kostet 5\,00 € pro Person\, für Schüler/Studierende/bBR-Mitglieder kostenlos. \nEine Anmeldung ist nicht notwendig. \nTreffpunkt: vor dem botanika-Eingang
URL:https://www.verein-rhododendronpark-bremen.de/event/fuehrung-kolonialismus-pflanzenjaeger-und-ihre-helfer/
LOCATION:botanika im Rhododendronpark
END:VEVENT
END:VCALENDAR