BEGIN:VCALENDAR
VERSION:2.0
PRODID:-//Rhodopark Bremen - ECPv6.15.17//NONSGML v1.0//EN
CALSCALE:GREGORIAN
METHOD:PUBLISH
X-WR-CALNAME:Rhodopark Bremen
X-ORIGINAL-URL:https://www.verein-rhododendronpark-bremen.de
X-WR-CALDESC:Veranstaltungen für Rhodopark Bremen
REFRESH-INTERVAL;VALUE=DURATION:PT1H
X-Robots-Tag:noindex
X-PUBLISHED-TTL:PT1H
BEGIN:VTIMEZONE
TZID:Europe/Berlin
BEGIN:DAYLIGHT
TZOFFSETFROM:+0100
TZOFFSETTO:+0200
TZNAME:CEST
DTSTART:20230326T010000
END:DAYLIGHT
BEGIN:STANDARD
TZOFFSETFROM:+0200
TZOFFSETTO:+0100
TZNAME:CET
DTSTART:20231029T010000
END:STANDARD
BEGIN:DAYLIGHT
TZOFFSETFROM:+0100
TZOFFSETTO:+0200
TZNAME:CEST
DTSTART:20240331T010000
END:DAYLIGHT
BEGIN:STANDARD
TZOFFSETFROM:+0200
TZOFFSETTO:+0100
TZNAME:CET
DTSTART:20241027T010000
END:STANDARD
BEGIN:DAYLIGHT
TZOFFSETFROM:+0100
TZOFFSETTO:+0200
TZNAME:CEST
DTSTART:20250330T010000
END:DAYLIGHT
BEGIN:STANDARD
TZOFFSETFROM:+0200
TZOFFSETTO:+0100
TZNAME:CET
DTSTART:20251026T010000
END:STANDARD
END:VTIMEZONE
BEGIN:VEVENT
DTSTART;TZID=Europe/Berlin:20240425T170000
DTEND;TZID=Europe/Berlin:20240425T170000
DTSTAMP:20260421T170745
CREATED:20240419T162301Z
LAST-MODIFIED:20240421T164707Z
UID:2450-1714064400-1714064400@www.verein-rhododendronpark-bremen.de
SUMMARY:Führung: Magnolien und andere Frühlingsblüher
DESCRIPTION:Führung durch den Rhododendronpark mit Parkleiter Dr. Hartwig Schepker von der Stiftung Bremer Rhododendronpark \nDie Führung kostet 5\,00 € pro Person\, für Schüler/Studierende/bBR-Mitglieder kostenlos. \nEine Anmeldung ist nicht notwendig. \nTreffpunkt: vor dem botanika-Eingang
URL:https://www.verein-rhododendronpark-bremen.de/event/fuehrung-magnolien-und-andere-fruehlingsblueher-2/
LOCATION:botanika im Rhododendronpark
END:VEVENT
BEGIN:VEVENT
DTSTART;TZID=Europe/Berlin:20240427T140000
DTEND;TZID=Europe/Berlin:20240427T140000
DTSTAMP:20260421T170745
CREATED:20240419T163134Z
LAST-MODIFIED:20240420T123100Z
UID:2452-1714226400-1714226400@www.verein-rhododendronpark-bremen.de
SUMMARY:Führung: Frühling im Allmers-Park
DESCRIPTION:mit Prof. Dr. Friederike Koenig von der Universität Bremen \nDie Führung kostet 5\,00 € pro Person\, für Schüler/Studierende/bBR-Mitglieder kostenlos. \nEine Anmeldung ist nicht notwendig. \nTreffpunkt: vor dem botanika-Eingang
URL:https://www.verein-rhododendronpark-bremen.de/event/fuehrung-fruehling-im-allmers-park/
LOCATION:botanika im Rhododendronpark
END:VEVENT
END:VCALENDAR