BEGIN:VCALENDAR
VERSION:2.0
PRODID:-//Rhodopark Bremen - ECPv6.15.17//NONSGML v1.0//EN
CALSCALE:GREGORIAN
METHOD:PUBLISH
X-WR-CALNAME:Rhodopark Bremen
X-ORIGINAL-URL:https://www.verein-rhododendronpark-bremen.de
X-WR-CALDESC:Veranstaltungen für Rhodopark Bremen
REFRESH-INTERVAL;VALUE=DURATION:PT1H
X-Robots-Tag:noindex
X-PUBLISHED-TTL:PT1H
BEGIN:VTIMEZONE
TZID:Europe/Berlin
BEGIN:DAYLIGHT
TZOFFSETFROM:+0100
TZOFFSETTO:+0200
TZNAME:CEST
DTSTART:20230326T010000
END:DAYLIGHT
BEGIN:STANDARD
TZOFFSETFROM:+0200
TZOFFSETTO:+0100
TZNAME:CET
DTSTART:20231029T010000
END:STANDARD
BEGIN:DAYLIGHT
TZOFFSETFROM:+0100
TZOFFSETTO:+0200
TZNAME:CEST
DTSTART:20240331T010000
END:DAYLIGHT
BEGIN:STANDARD
TZOFFSETFROM:+0200
TZOFFSETTO:+0100
TZNAME:CET
DTSTART:20241027T010000
END:STANDARD
BEGIN:DAYLIGHT
TZOFFSETFROM:+0100
TZOFFSETTO:+0200
TZNAME:CEST
DTSTART:20250330T010000
END:DAYLIGHT
BEGIN:STANDARD
TZOFFSETFROM:+0200
TZOFFSETTO:+0100
TZNAME:CET
DTSTART:20251026T010000
END:STANDARD
END:VTIMEZONE
BEGIN:VEVENT
DTSTART;TZID=Europe/Berlin:20240606T190000
DTEND;TZID=Europe/Berlin:20240606T190000
DTSTAMP:20260421T134103
CREATED:20240420T102206Z
LAST-MODIFIED:20240420T102206Z
UID:2463-1717700400-1717700400@www.verein-rhododendronpark-bremen.de
SUMMARY:Vortrag: Chinesische Gärten
DESCRIPTION:mit Andreas Rippert vom Förderverein bBR e.V. \nOrt: Seminarraum in der botanika \nDer Eintritt ist frei – der Verein freut sich jedoch über eine Spende.
URL:https://www.verein-rhododendronpark-bremen.de/event/vortrag-chinesische-gaerten/
LOCATION:botanika im Rhododendronpark
END:VEVENT
BEGIN:VEVENT
DTSTART;TZID=Europe/Berlin:20240615T140000
DTEND;TZID=Europe/Berlin:20240615T140000
DTSTAMP:20260421T134103
CREATED:20240420T102730Z
LAST-MODIFIED:20240420T122526Z
UID:2465-1718460000-1718460000@www.verein-rhododendronpark-bremen.de
SUMMARY:Führung: Pflanzen am Gewässerrand
DESCRIPTION:Führung im Rhodendronpark mit Prof. Dr. Friederike Koenig von der Universität Bremen \nDie Führung kostet 5\,00 € pro Person\, für Schüler/Studierende/bBR-Mitglieder kostenlos. \nEine Anmeldung ist nicht notwendig. \nTreffpunkt: vor dem botanika-Eingang
URL:https://www.verein-rhododendronpark-bremen.de/event/fuehrung-pflanzen-am-gewaesserrand/
LOCATION:botanika im Rhododendronpark
END:VEVENT
BEGIN:VEVENT
DTSTART;TZID=Europe/Berlin:20240615T160000
DTEND;TZID=Europe/Berlin:20240615T180000
DTSTAMP:20260421T134103
CREATED:20240611T094926Z
LAST-MODIFIED:20240611T094926Z
UID:2553-1718467200-1718474400@www.verein-rhododendronpark-bremen.de
SUMMARY:Wir bringen die Menschenrechte zum Klingen
DESCRIPTION:
URL:https://www.verein-rhododendronpark-bremen.de/event/wir-bringen-die-menschenrechte-zum-klingen/
END:VEVENT
BEGIN:VEVENT
DTSTART;TZID=Europe/Berlin:20240617T170000
DTEND;TZID=Europe/Berlin:20240617T170000
DTSTAMP:20260421T134103
CREATED:20240420T103117Z
LAST-MODIFIED:20240420T122349Z
UID:2468-1718643600-1718643600@www.verein-rhododendronpark-bremen.de
SUMMARY:Führung: Johanniskräuter - Heilpflanzen\, die zur Sommersonnenwende ihre ganze Kraft entfalten
DESCRIPTION:Führung durch den Rhododendronpark mit FRau Gabriele Schuldt-Segner\, Bremen \nDie Führung kostet 5\,00 € pro Person\, für Schüler/Studierende/bBR-Mitglieder kostenlos. \nEine Anmeldung ist nicht notwendig. \nTreffpunkt: vor dem botanika-Eingang
URL:https://www.verein-rhododendronpark-bremen.de/event/fuehrung-johanniskraeuter-heilpflanzen-die-zur-sommersonnenwende-ihre-ganze-kraft-entfalten/
LOCATION:botanika im Rhododendronpark
END:VEVENT
BEGIN:VEVENT
DTSTART;TZID=Europe/Berlin:20240620T170000
DTEND;TZID=Europe/Berlin:20240620T170000
DTSTAMP:20260421T134103
CREATED:20240420T103550Z
LAST-MODIFIED:20240421T131113Z
UID:2470-1718902800-1718902800@www.verein-rhododendronpark-bremen.de
SUMMARY:Führung: Bedeutung und Nutzen unserer einheimischen Pflanzen
DESCRIPTION:Führung durch den Rhododendronpark mit Dr. Josef Müller von der Universität Bremen \nDie Führung kostet 5\,00 € pro Person\, für Schüler/Studierende/bBR-Mitglieder kostenlos. \nEine Anmeldung ist nicht notwendig. \nTreffpunkt: vor dem botanika-Eingang
URL:https://www.verein-rhododendronpark-bremen.de/event/fuehrung-bedeutung-und-nutzen-unserer-einheimischen-pflanzen/
LOCATION:botanika im Rhododendronpark
END:VEVENT
BEGIN:VEVENT
DTSTART;TZID=Europe/Berlin:20240622T140000
DTEND;TZID=Europe/Berlin:20240622T140000
DTSTAMP:20260421T134103
CREATED:20240420T103816Z
LAST-MODIFIED:20240421T130954Z
UID:2472-1719064800-1719064800@www.verein-rhododendronpark-bremen.de
SUMMARY:Führung: Blüten und die sie bestäubenden Insekten
DESCRIPTION:Führung durch den Rhododendronpark mit Prof. Dr. Wolfgang Heyser von der Universität Bremen \nDie Führung kostet 5\,00 € pro Person\, für Schüler/Studierende/bBR-Mitglieder kostenlos. \nEine Anmeldung ist nicht notwendig. \nTreffpunkt: vor dem botanika-Eingang
URL:https://www.verein-rhododendronpark-bremen.de/event/fuehrung-blueten-und-die-sie-bestaeubenden-insekten/
LOCATION:botanika im Rhododendronpark
END:VEVENT
END:VCALENDAR